BEGIN:VCALENDAR
VERSION:2.0
PRODID:-//greylockglenresort - ECPv6.15.13.1//NONSGML v1.0//EN
CALSCALE:GREGORIAN
METHOD:PUBLISH
X-WR-CALNAME:greylockglenresort
X-ORIGINAL-URL:http://greylockglenresort.com
X-WR-CALDESC:Events for greylockglenresort
REFRESH-INTERVAL;VALUE=DURATION:PT1H
X-Robots-Tag:noindex
X-PUBLISHED-TTL:PT1H
BEGIN:VTIMEZONE
TZID:America/New_York
BEGIN:DAYLIGHT
TZOFFSETFROM:-0500
TZOFFSETTO:-0400
TZNAME:EDT
DTSTART:20250309T070000
END:DAYLIGHT
BEGIN:STANDARD
TZOFFSETFROM:-0400
TZOFFSETTO:-0500
TZNAME:EST
DTSTART:20251102T060000
END:STANDARD
BEGIN:DAYLIGHT
TZOFFSETFROM:-0500
TZOFFSETTO:-0400
TZNAME:EDT
DTSTART:20260308T070000
END:DAYLIGHT
BEGIN:STANDARD
TZOFFSETFROM:-0400
TZOFFSETTO:-0500
TZNAME:EST
DTSTART:20261101T060000
END:STANDARD
BEGIN:DAYLIGHT
TZOFFSETFROM:-0500
TZOFFSETTO:-0400
TZNAME:EDT
DTSTART:20270314T070000
END:DAYLIGHT
BEGIN:STANDARD
TZOFFSETFROM:-0400
TZOFFSETTO:-0500
TZNAME:EST
DTSTART:20271107T060000
END:STANDARD
END:VTIMEZONE
BEGIN:VEVENT
DTSTART;TZID=America/New_York:20260629T000000
DTEND;TZID=America/New_York:20260630T235959
DTSTAMP:20260421T102518
CREATED:20260116T154717Z
LAST-MODIFIED:20260116T154719Z
UID:4255-1782691200-1782863999@greylockglenresort.com
SUMMARY:Closed
DESCRIPTION:The Greylock Glen Center is closed on Mondays and Tuesdays. We look forward to welcoming you later in the week!
URL:http://greylockglenresort.com/calendar/closed-29/
LOCATION:Greylock Glen Center\, 165 Gould Rd.\, Adams\, MA\, 01220\, United States
END:VEVENT
BEGIN:VEVENT
DTSTART;TZID=America/New_York:20260628T110000
DTEND;TZID=America/New_York:20260628T120000
DTSTAMP:20260421T102518
CREATED:20260116T154607Z
LAST-MODIFIED:20260116T154609Z
UID:4251-1782644400-1782648000@greylockglenresort.com
SUMMARY:Community Yoga at the Glen
DESCRIPTION:FREE and open to all ages and yoga levels
URL:http://greylockglenresort.com/calendar/community-yoga-at-the-glen-64/
LOCATION:Greylock Glen Center\, 165 Gould Rd.\, Adams\, MA\, 01220\, United States
END:VEVENT
BEGIN:VEVENT
DTSTART;TZID=America/New_York:20260627T110000
DTEND;TZID=America/New_York:20260627T120000
DTSTAMP:20260421T102518
CREATED:20260116T154529Z
LAST-MODIFIED:20260116T154532Z
UID:4249-1782558000-1782561600@greylockglenresort.com
SUMMARY:Community Yoga at the Glen
DESCRIPTION:FREE and open to all ages and yoga levels
URL:http://greylockglenresort.com/calendar/community-yoga-at-the-glen-63/
LOCATION:Greylock Glen Center\, 165 Gould Rd.\, Adams\, MA\, 01220\, United States
END:VEVENT
BEGIN:VEVENT
DTSTART;TZID=America/New_York:20260622T000000
DTEND;TZID=America/New_York:20260623T235959
DTSTAMP:20260421T102518
CREATED:20260116T154636Z
LAST-MODIFIED:20260116T154638Z
UID:4253-1782086400-1782259199@greylockglenresort.com
SUMMARY:Closed
DESCRIPTION:The Greylock Glen Center is closed on Mondays and Tuesdays. We look forward to welcoming you later in the week!
URL:http://greylockglenresort.com/calendar/closed-28/
LOCATION:Greylock Glen Center\, 165 Gould Rd.\, Adams\, MA\, 01220\, United States
END:VEVENT
BEGIN:VEVENT
DTSTART;TZID=America/New_York:20260621T110000
DTEND;TZID=America/New_York:20260621T120000
DTSTAMP:20260421T102518
CREATED:20260116T154456Z
LAST-MODIFIED:20260116T154459Z
UID:4247-1782039600-1782043200@greylockglenresort.com
SUMMARY:Community Yoga at the Glen
DESCRIPTION:FREE and open to all ages and yoga levels
URL:http://greylockglenresort.com/calendar/community-yoga-at-the-glen-62/
LOCATION:Greylock Glen Center\, 165 Gould Rd.\, Adams\, MA\, 01220\, United States
END:VEVENT
BEGIN:VEVENT
DTSTART;TZID=America/New_York:20260620T110000
DTEND;TZID=America/New_York:20260620T120000
DTSTAMP:20260421T102518
CREATED:20260116T154429Z
LAST-MODIFIED:20260116T154432Z
UID:4245-1781953200-1781956800@greylockglenresort.com
SUMMARY:Community Yoga at the Glen
DESCRIPTION:FREE and open to all ages and yoga levels
URL:http://greylockglenresort.com/calendar/community-yoga-at-the-glen-61/
LOCATION:Greylock Glen Center\, 165 Gould Rd.\, Adams\, MA\, 01220\, United States
END:VEVENT
BEGIN:VEVENT
DTSTART;TZID=America/New_York:20260615T000000
DTEND;TZID=America/New_York:20260616T235959
DTSTAMP:20260421T102518
CREATED:20260116T154354Z
LAST-MODIFIED:20260116T154357Z
UID:4243-1781481600-1781654399@greylockglenresort.com
SUMMARY:Closed
DESCRIPTION:The Greylock Glen Center is closed on Mondays and Tuesdays. We look forward to welcoming you later in the week!
URL:http://greylockglenresort.com/calendar/closed-27/
LOCATION:Greylock Glen Center\, 165 Gould Rd.\, Adams\, MA\, 01220\, United States
END:VEVENT
BEGIN:VEVENT
DTSTART;TZID=America/New_York:20260614T110000
DTEND;TZID=America/New_York:20260614T120000
DTSTAMP:20260421T102518
CREATED:20260116T154157Z
LAST-MODIFIED:20260116T154200Z
UID:4237-1781434800-1781438400@greylockglenresort.com
SUMMARY:Community Yoga at the Glen
DESCRIPTION:FREE and open to all ages and yoga levels
URL:http://greylockglenresort.com/calendar/community-yoga-at-the-glen-60/
LOCATION:Greylock Glen Center\, 165 Gould Rd.\, Adams\, MA\, 01220\, United States
END:VEVENT
BEGIN:VEVENT
DTSTART;TZID=America/New_York:20260613T110000
DTEND;TZID=America/New_York:20260613T120000
DTSTAMP:20260421T102518
CREATED:20260116T154129Z
LAST-MODIFIED:20260116T154132Z
UID:4235-1781348400-1781352000@greylockglenresort.com
SUMMARY:Community Yoga at the Glen
DESCRIPTION:FREE and open to all ages and yoga levels
URL:http://greylockglenresort.com/calendar/community-yoga-at-the-glen-59/
LOCATION:Greylock Glen Center\, 165 Gould Rd.\, Adams\, MA\, 01220\, United States
END:VEVENT
BEGIN:VEVENT
DTSTART;TZID=America/New_York:20260608T000000
DTEND;TZID=America/New_York:20260609T235959
DTSTAMP:20260421T102518
CREATED:20260116T154315Z
LAST-MODIFIED:20260116T154317Z
UID:4241-1780876800-1781049599@greylockglenresort.com
SUMMARY:Closed
DESCRIPTION:The Greylock Glen Center is closed on Mondays and Tuesdays. We look forward to welcoming you later in the week!
URL:http://greylockglenresort.com/calendar/closed-26/
LOCATION:Greylock Glen Center\, 165 Gould Rd.\, Adams\, MA\, 01220\, United States
END:VEVENT
BEGIN:VEVENT
DTSTART;TZID=America/New_York:20260607T110000
DTEND;TZID=America/New_York:20260607T120000
DTSTAMP:20260421T102518
CREATED:20260116T154059Z
LAST-MODIFIED:20260116T154103Z
UID:4233-1780830000-1780833600@greylockglenresort.com
SUMMARY:Community Yoga at the Glen
DESCRIPTION:FREE and open to all ages and yoga levels
URL:http://greylockglenresort.com/calendar/community-yoga-at-the-glen-58/
LOCATION:Greylock Glen Center\, 165 Gould Rd.\, Adams\, MA\, 01220\, United States
END:VEVENT
BEGIN:VEVENT
DTSTART;TZID=America/New_York:20260606T110000
DTEND;TZID=America/New_York:20260606T120000
DTSTAMP:20260421T102518
CREATED:20260116T154025Z
LAST-MODIFIED:20260116T154028Z
UID:4231-1780743600-1780747200@greylockglenresort.com
SUMMARY:Community Yoga at the Glen
DESCRIPTION:FREE and open to all ages and yoga levels
URL:http://greylockglenresort.com/calendar/community-yoga-at-the-glen-57/
LOCATION:Greylock Glen Center\, 165 Gould Rd.\, Adams\, MA\, 01220\, United States
END:VEVENT
BEGIN:VEVENT
DTSTART;TZID=America/New_York:20260601T000000
DTEND;TZID=America/New_York:20260602T235959
DTSTAMP:20260421T102518
CREATED:20260116T154230Z
LAST-MODIFIED:20260116T154232Z
UID:4239-1780272000-1780444799@greylockglenresort.com
SUMMARY:Closed
DESCRIPTION:The Greylock Glen Center is closed on Mondays and Tuesdays. We look forward to welcoming you later in the week!
URL:http://greylockglenresort.com/calendar/closed-25/
LOCATION:Greylock Glen Center\, 165 Gould Rd.\, Adams\, MA\, 01220\, United States
END:VEVENT
BEGIN:VEVENT
DTSTART;TZID=America/New_York:20260530T110000
DTEND;TZID=America/New_York:20260530T120000
DTSTAMP:20260421T102518
CREATED:20260116T153053Z
LAST-MODIFIED:20260116T153055Z
UID:4222-1780138800-1780142400@greylockglenresort.com
SUMMARY:Community Yoga at the Glen
DESCRIPTION:FREE and open to all ages and yoga levels
URL:http://greylockglenresort.com/calendar/community-yoga-at-the-glen-55/
LOCATION:Greylock Glen Center\, 165 Gould Rd.\, Adams\, MA\, 01220\, United States
END:VEVENT
BEGIN:VEVENT
DTSTART;TZID=America/New_York:20260525T000000
DTEND;TZID=America/New_York:20260526T235959
DTSTAMP:20260421T102518
CREATED:20260116T153224Z
LAST-MODIFIED:20260116T153226Z
UID:4228-1779667200-1779839999@greylockglenresort.com
SUMMARY:Closed
DESCRIPTION:The Greylock Glen Center is closed on Mondays and Tuesdays. We look forward to welcoming you later in the week!
URL:http://greylockglenresort.com/calendar/closed-24/
LOCATION:Greylock Glen Center\, 165 Gould Rd.\, Adams\, MA\, 01220\, United States
END:VEVENT
BEGIN:VEVENT
DTSTART;TZID=America/New_York:20260523T110000
DTEND;TZID=America/New_York:20260523T120000
DTSTAMP:20260421T102518
CREATED:20260116T152915Z
LAST-MODIFIED:20260116T152917Z
UID:4218-1779534000-1779537600@greylockglenresort.com
SUMMARY:Community Yoga at the Glen
DESCRIPTION:FREE and open to all ages and yoga levels
URL:http://greylockglenresort.com/calendar/community-yoga-at-the-glen-53/
LOCATION:Greylock Glen Center\, 165 Gould Rd.\, Adams\, MA\, 01220\, United States
END:VEVENT
BEGIN:VEVENT
DTSTART;TZID=America/New_York:20260518T000000
DTEND;TZID=America/New_York:20260519T235959
DTSTAMP:20260421T102518
CREATED:20260116T153154Z
LAST-MODIFIED:20260116T153156Z
UID:4226-1779062400-1779235199@greylockglenresort.com
SUMMARY:Closed
DESCRIPTION:The Greylock Glen Center is closed on Mondays and Tuesdays. We look forward to welcoming you later in the week!
URL:http://greylockglenresort.com/calendar/closed-23/
LOCATION:Greylock Glen Center\, 165 Gould Rd.\, Adams\, MA\, 01220\, United States
END:VEVENT
BEGIN:VEVENT
DTSTART;TZID=America/New_York:20260516T110000
DTEND;TZID=America/New_York:20260516T120000
DTSTAMP:20260421T102518
CREATED:20260116T152735Z
LAST-MODIFIED:20260116T152738Z
UID:4212-1778929200-1778932800@greylockglenresort.com
SUMMARY:Community Yoga at the Glen
DESCRIPTION:FREE and open to all ages and yoga levels
URL:http://greylockglenresort.com/calendar/community-yoga-at-the-glen-51/
LOCATION:Greylock Glen Center\, 165 Gould Rd.\, Adams\, MA\, 01220\, United States
END:VEVENT
BEGIN:VEVENT
DTSTART;TZID=America/New_York:20260511T000000
DTEND;TZID=America/New_York:20260512T235959
DTSTAMP:20260421T102518
CREATED:20260116T152844Z
LAST-MODIFIED:20260116T152846Z
UID:4216-1778457600-1778630399@greylockglenresort.com
SUMMARY:Closed
DESCRIPTION:The Greylock Glen Center is closed on Mondays and Tuesdays. We look forward to welcoming you later in the week!
URL:http://greylockglenresort.com/calendar/closed-22/
LOCATION:Greylock Glen Center\, 165 Gould Rd.\, Adams\, MA\, 01220\, United States
END:VEVENT
BEGIN:VEVENT
DTSTART;TZID=America/New_York:20260509T110000
DTEND;TZID=America/New_York:20260509T120000
DTSTAMP:20260421T102518
CREATED:20260116T152537Z
LAST-MODIFIED:20260116T152539Z
UID:4206-1778324400-1778328000@greylockglenresort.com
SUMMARY:Community Yoga at the Glen
DESCRIPTION:FREE and open to all ages and yoga levels
URL:http://greylockglenresort.com/calendar/community-yoga-at-the-glen-49/
LOCATION:Greylock Glen Center\, 165 Gould Rd.\, Adams\, MA\, 01220\, United States
END:VEVENT
BEGIN:VEVENT
DTSTART;TZID=America/New_York:20260504T000000
DTEND;TZID=America/New_York:20260505T235959
DTSTAMP:20260421T102518
CREATED:20260116T152635Z
LAST-MODIFIED:20260116T152639Z
UID:4210-1777852800-1778025599@greylockglenresort.com
SUMMARY:Closed
DESCRIPTION:The Greylock Glen Center is closed on Mondays and Tuesdays. We look forward to welcoming you later in the week!
URL:http://greylockglenresort.com/calendar/closed-21/
LOCATION:Greylock Glen Center\, 165 Gould Rd.\, Adams\, MA\, 01220\, United States
END:VEVENT
BEGIN:VEVENT
DTSTART;TZID=America/New_York:20260502T110000
DTEND;TZID=America/New_York:20260502T120000
DTSTAMP:20260421T102518
CREATED:20260116T152302Z
LAST-MODIFIED:20260116T152305Z
UID:4200-1777719600-1777723200@greylockglenresort.com
SUMMARY:Community Yoga at the Glen
DESCRIPTION:FREE and open to all ages and yoga levels
URL:http://greylockglenresort.com/calendar/community-yoga-at-the-glen-47/
LOCATION:Greylock Glen Center\, 165 Gould Rd.\, Adams\, MA\, 01220\, United States
END:VEVENT
BEGIN:VEVENT
DTSTART;TZID=America/New_York:20260430T100000
DTEND;TZID=America/New_York:20260430T113000
DTSTAMP:20260421T102518
CREATED:20260331T183329Z
LAST-MODIFIED:20260331T183332Z
UID:4804-1777543200-1777548600@greylockglenresort.com
SUMMARY:Mountain Mindfulness: Qi Gong/Tai Chi with Jeanne Schnackenberg
DESCRIPTION:Ages 12 and older. Experience the ancient Chinese meditative martial arts of Qi Gong/Tai Chi with guide Jeanne. Enhance overall optimal health and longevity. All experience levels welcome. Wear comfortable winter clothing. Program held indoors\, or outdoors in fair weather. Co-sponsored by Mount Greylock State Reservation – Department of Conservation and Recreation and Canyon Ranch Wellness Resort\, Lenox.
URL:http://greylockglenresort.com/calendar/mountain-mindfulness-qi-gong-tai-chi-with-jeanne-schnackenberg/
LOCATION:Greylock Glen Center\, 165 Gould Rd.\, Adams\, MA\, 01220\, United States
END:VEVENT
BEGIN:VEVENT
DTSTART;TZID=America/New_York:20260427T000000
DTEND;TZID=America/New_York:20260428T235959
DTSTAMP:20260421T102518
CREATED:20260116T152413Z
LAST-MODIFIED:20260116T152415Z
UID:4204-1777248000-1777420799@greylockglenresort.com
SUMMARY:Closed
DESCRIPTION:The Greylock Glen Center is closed on Mondays and Tuesdays. We look forward to welcoming you later in the week!
URL:http://greylockglenresort.com/calendar/closed-20/
LOCATION:Greylock Glen Center\, 165 Gould Rd.\, Adams\, MA\, 01220\, United States
END:VEVENT
BEGIN:VEVENT
DTSTART;TZID=America/New_York:20260426T130000
DTEND;TZID=America/New_York:20260426T150000
DTSTAMP:20260421T102518
CREATED:20260331T182813Z
LAST-MODIFIED:20260331T182816Z
UID:4800-1777208400-1777215600@greylockglenresort.com
SUMMARY:Mountain Mindfulness: Spring Walk with Vicki
DESCRIPTION:For all ages. Look for signs of spring on a mindful\, slow woodland saunter. Experience forest bathing\, meditation\, mindful breathing\, and group reflection. Up to a mile distance. Co-sponsored by Mount Greylock State Reservation – Department of Conservation and Recreation and Gaia Wellness.
URL:http://greylockglenresort.com/calendar/mountain-mindfulness-spring-walk-with-vicki/
LOCATION:Greylock Glen Center\, 165 Gould Rd.\, Adams\, MA\, 01220\, United States
END:VEVENT
BEGIN:VEVENT
DTSTART;TZID=America/New_York:20260425T110000
DTEND;TZID=America/New_York:20260425T120000
DTSTAMP:20260421T102518
CREATED:20260116T152123Z
LAST-MODIFIED:20260116T152126Z
UID:4194-1777114800-1777118400@greylockglenresort.com
SUMMARY:Community Yoga at the Glen
DESCRIPTION:FREE and open to all ages and yoga levels
URL:http://greylockglenresort.com/calendar/community-yoga-at-the-glen-45/
LOCATION:Greylock Glen Center\, 165 Gould Rd.\, Adams\, MA\, 01220\, United States
END:VEVENT
BEGIN:VEVENT
DTSTART;TZID=America/New_York:20260422T170000
DTEND;TZID=America/New_York:20260422T183000
DTSTAMP:20260421T102518
CREATED:20260418T155019Z
LAST-MODIFIED:20260418T155022Z
UID:4812-1776877200-1776882600@greylockglenresort.com
SUMMARY:Adams OSRP Public Forum
DESCRIPTION:
URL:http://greylockglenresort.com/calendar/adams-osrp-public-forum-2/
END:VEVENT
BEGIN:VEVENT
DTSTART;TZID=America/New_York:20260422T070000
DTEND;TZID=America/New_York:20260422T170000
DTSTAMP:20260421T102518
CREATED:20260331T182546Z
LAST-MODIFIED:20260418T154858Z
UID:4798-1776841200-1776877200@greylockglenresort.com
SUMMARY:Earth Day at the Glen
DESCRIPTION:For all ages. Join us for activities that inspire taking care of where we live\, and honor the Earth\, our shared home! Join us at the Glen for Earth Day 2026. We’ll have a full schedule of activities for all ages and abilities throughout the day.
URL:http://greylockglenresort.com/calendar/earth-day-open-house/
LOCATION:Greylock Glen Center\, 165 Gould Rd.\, Adams\, MA\, 01220\, United States
ATTACH;FMTTYPE=image/png:http://greylockglenresort.com/wp-content/uploads/2026/03/Earth-Day-at-the-Glen.png
END:VEVENT
BEGIN:VEVENT
DTSTART;TZID=America/New_York:20260421T130000
DTEND;TZID=America/New_York:20260421T143000
DTSTAMP:20260421T102518
CREATED:20260331T182247Z
LAST-MODIFIED:20260331T182250Z
UID:4796-1776776400-1776781800@greylockglenresort.com
SUMMARY:Geocaching 101
DESCRIPTION:For all ages. Looking for a fun way to engage your tech-savvy kids with the natural world? This outdoor activity combines hiking with a tech-aided treasure hunt. Beginners welcome! No experience necessary. To participate fully\, download the free app at the website: geocaching.com/play. Dress appropriately for variable weather. Trails may be muddy. Bring water and a snack. Sponsored by the Mount Greylock State Reservation – Department of Conservation and Recreation.
URL:http://greylockglenresort.com/calendar/geocaching-101/
LOCATION:Greylock Glen Center\, 165 Gould Rd.\, Adams\, MA\, 01220\, United States
END:VEVENT
BEGIN:VEVENT
DTSTART;TZID=America/New_York:20260420T000000
DTEND;TZID=America/New_York:20260421T235959
DTSTAMP:20260421T102518
CREATED:20260116T152223Z
LAST-MODIFIED:20260116T152224Z
UID:4198-1776643200-1776815999@greylockglenresort.com
SUMMARY:Closed
DESCRIPTION:The Greylock Glen Center is closed on Mondays and Tuesdays. We look forward to welcoming you later in the week!
URL:http://greylockglenresort.com/calendar/closed-19/
LOCATION:Greylock Glen Center\, 165 Gould Rd.\, Adams\, MA\, 01220\, United States
END:VEVENT
END:VCALENDAR