BEGIN:VCALENDAR
VERSION:2.0
PRODID:-//greylockglenresort - ECPv6.15.13.1//NONSGML v1.0//EN
CALSCALE:GREGORIAN
METHOD:PUBLISH
X-ORIGINAL-URL:http://greylockglenresort.com
X-WR-CALDESC:Events for greylockglenresort
REFRESH-INTERVAL;VALUE=DURATION:PT1H
X-Robots-Tag:noindex
X-PUBLISHED-TTL:PT1H
BEGIN:VTIMEZONE
TZID:America/New_York
BEGIN:DAYLIGHT
TZOFFSETFROM:-0500
TZOFFSETTO:-0400
TZNAME:EDT
DTSTART:20250309T070000
END:DAYLIGHT
BEGIN:STANDARD
TZOFFSETFROM:-0400
TZOFFSETTO:-0500
TZNAME:EST
DTSTART:20251102T060000
END:STANDARD
BEGIN:DAYLIGHT
TZOFFSETFROM:-0500
TZOFFSETTO:-0400
TZNAME:EDT
DTSTART:20260308T070000
END:DAYLIGHT
BEGIN:STANDARD
TZOFFSETFROM:-0400
TZOFFSETTO:-0500
TZNAME:EST
DTSTART:20261101T060000
END:STANDARD
BEGIN:DAYLIGHT
TZOFFSETFROM:-0500
TZOFFSETTO:-0400
TZNAME:EDT
DTSTART:20270314T070000
END:DAYLIGHT
BEGIN:STANDARD
TZOFFSETFROM:-0400
TZOFFSETTO:-0500
TZNAME:EST
DTSTART:20271107T060000
END:STANDARD
END:VTIMEZONE
BEGIN:VEVENT
DTSTART;TZID=America/New_York:20261121T110000
DTEND;TZID=America/New_York:20261121T120000
DTSTAMP:20260421T184812
CREATED:20260116T162956Z
LAST-MODIFIED:20260116T162959Z
UID:4373-1795258800-1795262400@greylockglenresort.com
SUMMARY:Community Yoga at the Glen
DESCRIPTION:FREE and open to all ages and yoga levels
URL:http://greylockglenresort.com/calendar/community-yoga-at-the-glen-104/
LOCATION:Greylock Glen Center\, 165 Gould Rd.\, Adams\, MA\, 01220\, United States
END:VEVENT
BEGIN:VEVENT
DTSTART;TZID=America/New_York:20261122T110000
DTEND;TZID=America/New_York:20261122T120000
DTSTAMP:20260421T184812
CREATED:20260116T163025Z
LAST-MODIFIED:20260116T163027Z
UID:4375-1795345200-1795348800@greylockglenresort.com
SUMMARY:Community Yoga at the Glen
DESCRIPTION:FREE and open to all ages and yoga levels
URL:http://greylockglenresort.com/calendar/community-yoga-at-the-glen-105/
LOCATION:Greylock Glen Center\, 165 Gould Rd.\, Adams\, MA\, 01220\, United States
END:VEVENT
BEGIN:VEVENT
DTSTART;TZID=America/New_York:20261123T000000
DTEND;TZID=America/New_York:20261124T235959
DTSTAMP:20260421T184812
CREATED:20260116T163122Z
LAST-MODIFIED:20260116T163124Z
UID:4379-1795392000-1795564799@greylockglenresort.com
SUMMARY:Closed
DESCRIPTION:The Greylock Glen Center is closed on Mondays and Tuesdays. We look forward to welcoming you later in the week!
URL:http://greylockglenresort.com/calendar/closed-50/
LOCATION:Greylock Glen Center\, 165 Gould Rd.\, Adams\, MA\, 01220\, United States
END:VEVENT
BEGIN:VEVENT
DTSTART;TZID=America/New_York:20261128T110000
DTEND;TZID=America/New_York:20261128T120000
DTSTAMP:20260421T184812
CREATED:20260116T163249Z
LAST-MODIFIED:20260116T163251Z
UID:4381-1795863600-1795867200@greylockglenresort.com
SUMMARY:Community Yoga at the Glen
DESCRIPTION:FREE and open to all ages and yoga levels
URL:http://greylockglenresort.com/calendar/community-yoga-at-the-glen-106/
LOCATION:Greylock Glen Center\, 165 Gould Rd.\, Adams\, MA\, 01220\, United States
END:VEVENT
BEGIN:VEVENT
DTSTART;TZID=America/New_York:20261129T110000
DTEND;TZID=America/New_York:20261129T120000
DTSTAMP:20260421T184812
CREATED:20260116T163317Z
LAST-MODIFIED:20260116T163319Z
UID:4383-1795950000-1795953600@greylockglenresort.com
SUMMARY:Community Yoga at the Glen
DESCRIPTION:FREE and open to all ages and yoga levels
URL:http://greylockglenresort.com/calendar/community-yoga-at-the-glen-107/
LOCATION:Greylock Glen Center\, 165 Gould Rd.\, Adams\, MA\, 01220\, United States
END:VEVENT
BEGIN:VEVENT
DTSTART;TZID=America/New_York:20261130T000000
DTEND;TZID=America/New_York:20261201T235959
DTSTAMP:20260421T184812
CREATED:20260116T163444Z
LAST-MODIFIED:20260116T163446Z
UID:4385-1795996800-1796169599@greylockglenresort.com
SUMMARY:Closed
DESCRIPTION:The Greylock Glen Center is closed on Mondays and Tuesdays. We look forward to welcoming you later in the week!
URL:http://greylockglenresort.com/calendar/closed-51/
LOCATION:Greylock Glen Center\, 165 Gould Rd.\, Adams\, MA\, 01220\, United States
END:VEVENT
BEGIN:VEVENT
DTSTART;TZID=America/New_York:20261205T110000
DTEND;TZID=America/New_York:20261205T120000
DTSTAMP:20260421T184812
CREATED:20260116T180448Z
LAST-MODIFIED:20260116T180451Z
UID:4387-1796468400-1796472000@greylockglenresort.com
SUMMARY:Community Yoga at the Glen
DESCRIPTION:FREE and open to all ages and yoga levels
URL:http://greylockglenresort.com/calendar/community-yoga-at-the-glen-108/
LOCATION:Greylock Glen Center\, 165 Gould Rd.\, Adams\, MA\, 01220\, United States
END:VEVENT
BEGIN:VEVENT
DTSTART;TZID=America/New_York:20261206T110000
DTEND;TZID=America/New_York:20261206T120000
DTSTAMP:20260421T184812
CREATED:20260116T180525Z
LAST-MODIFIED:20260116T180528Z
UID:4389-1796554800-1796558400@greylockglenresort.com
SUMMARY:Community Yoga at the Glen
DESCRIPTION:FREE and open to all ages and yoga levels
URL:http://greylockglenresort.com/calendar/community-yoga-at-the-glen-109/
LOCATION:Greylock Glen Center\, 165 Gould Rd.\, Adams\, MA\, 01220\, United States
END:VEVENT
BEGIN:VEVENT
DTSTART;TZID=America/New_York:20261207T000000
DTEND;TZID=America/New_York:20261208T235959
DTSTAMP:20260421T184812
CREATED:20260116T180713Z
LAST-MODIFIED:20260116T180717Z
UID:4395-1796601600-1796774399@greylockglenresort.com
SUMMARY:Closed
DESCRIPTION:The Greylock Glen Center is closed on Mondays and Tuesdays. We look forward to welcoming you later in the week!
URL:http://greylockglenresort.com/calendar/closed-52/
LOCATION:Greylock Glen Center\, 165 Gould Rd.\, Adams\, MA\, 01220\, United States
END:VEVENT
BEGIN:VEVENT
DTSTART;TZID=America/New_York:20261212T110000
DTEND;TZID=America/New_York:20261212T120000
DTSTAMP:20260421T184812
CREATED:20260116T180600Z
LAST-MODIFIED:20260116T180604Z
UID:4391-1797073200-1797076800@greylockglenresort.com
SUMMARY:Community Yoga at the Glen
DESCRIPTION:FREE and open to all ages and yoga levels
URL:http://greylockglenresort.com/calendar/community-yoga-at-the-glen-110/
LOCATION:Greylock Glen Center\, 165 Gould Rd.\, Adams\, MA\, 01220\, United States
END:VEVENT
BEGIN:VEVENT
DTSTART;TZID=America/New_York:20261213T110000
DTEND;TZID=America/New_York:20261213T120000
DTSTAMP:20260421T184812
CREATED:20260116T180637Z
LAST-MODIFIED:20260116T180642Z
UID:4393-1797159600-1797163200@greylockglenresort.com
SUMMARY:Community Yoga at the Glen
DESCRIPTION:FREE and open to all ages and yoga levels
URL:http://greylockglenresort.com/calendar/community-yoga-at-the-glen-111/
LOCATION:Greylock Glen Center\, 165 Gould Rd.\, Adams\, MA\, 01220\, United States
END:VEVENT
BEGIN:VEVENT
DTSTART;TZID=America/New_York:20261214T000000
DTEND;TZID=America/New_York:20261215T235959
DTSTAMP:20260421T184812
CREATED:20260116T180852Z
LAST-MODIFIED:20260116T180854Z
UID:4397-1797206400-1797379199@greylockglenresort.com
SUMMARY:Closed
DESCRIPTION:The Greylock Glen Center is closed on Mondays and Tuesdays. We look forward to welcoming you later in the week!
URL:http://greylockglenresort.com/calendar/closed-53/
LOCATION:Greylock Glen Center\, 165 Gould Rd.\, Adams\, MA\, 01220\, United States
END:VEVENT
BEGIN:VEVENT
DTSTART;TZID=America/New_York:20261219T110000
DTEND;TZID=America/New_York:20261219T120000
DTSTAMP:20260421T184812
CREATED:20260116T182236Z
LAST-MODIFIED:20260116T182240Z
UID:4399-1797678000-1797681600@greylockglenresort.com
SUMMARY:Community Yoga at the Glen
DESCRIPTION:FREE and open to all ages and yoga levels
URL:http://greylockglenresort.com/calendar/community-yoga-at-the-glen-112/
LOCATION:Greylock Glen Center\, 165 Gould Rd.\, Adams\, MA\, 01220\, United States
END:VEVENT
BEGIN:VEVENT
DTSTART;TZID=America/New_York:20261220T110000
DTEND;TZID=America/New_York:20261220T120000
DTSTAMP:20260421T184812
CREATED:20260116T182313Z
LAST-MODIFIED:20260116T182315Z
UID:4401-1797764400-1797768000@greylockglenresort.com
SUMMARY:Community Yoga at the Glen
DESCRIPTION:FREE and open to all ages and yoga levels
URL:http://greylockglenresort.com/calendar/community-yoga-at-the-glen-113/
LOCATION:Greylock Glen Center\, 165 Gould Rd.\, Adams\, MA\, 01220\, United States
END:VEVENT
BEGIN:VEVENT
DTSTART;TZID=America/New_York:20261226T110000
DTEND;TZID=America/New_York:20261226T120000
DTSTAMP:20260421T184812
CREATED:20260116T182535Z
LAST-MODIFIED:20260121T172012Z
UID:4405-1798282800-1798286400@greylockglenresort.com
SUMMARY:Community Yoga
DESCRIPTION:FREE and open to all ages and yoga levels
URL:http://greylockglenresort.com/calendar/community-yoga-at-the-glen-114/
LOCATION:Greylock Glen Center\, 165 Gould Rd.\, Adams\, MA\, 01220\, United States
END:VEVENT
BEGIN:VEVENT
DTSTART;TZID=America/New_York:20261227T110000
DTEND;TZID=America/New_York:20261227T120000
DTSTAMP:20260421T184812
CREATED:20260116T182607Z
LAST-MODIFIED:20260121T171924Z
UID:4407-1798369200-1798372800@greylockglenresort.com
SUMMARY:Community Yoga
DESCRIPTION:FREE and open to all ages and yoga levels
URL:http://greylockglenresort.com/calendar/community-yoga-at-the-glen-115/
LOCATION:Greylock Glen Center\, 165 Gould Rd.\, Adams\, MA\, 01220\, United States
END:VEVENT
BEGIN:VEVENT
DTSTART;TZID=America/New_York:20261228T000000
DTEND;TZID=America/New_York:20261229T235959
DTSTAMP:20260421T184812
CREATED:20260116T182345Z
LAST-MODIFIED:20260116T182657Z
UID:4403-1798416000-1798588799@greylockglenresort.com
SUMMARY:Closed
DESCRIPTION:The Greylock Glen Center is closed on Mondays and Tuesdays. We look forward to welcoming you later in the week!
URL:http://greylockglenresort.com/calendar/closed-54/
LOCATION:Greylock Glen Center\, 165 Gould Rd.\, Adams\, MA\, 01220\, United States
END:VEVENT
END:VCALENDAR